BEGIN:VCALENDAR
VERSION:2.0
PRODID:-//Connecting the Culm - ECPv6.1.3//NONSGML v1.0//EN
CALSCALE:GREGORIAN
METHOD:PUBLISH
X-WR-CALNAME:Connecting the Culm
X-ORIGINAL-URL:https://connectingtheculm.com
X-WR-CALDESC:Events for Connecting the Culm
REFRESH-INTERVAL;VALUE=DURATION:PT1H
X-Robots-Tag:noindex
X-PUBLISHED-TTL:PT1H
BEGIN:VTIMEZONE
TZID:UTC
BEGIN:STANDARD
TZOFFSETFROM:+0000
TZOFFSETTO:+0000
TZNAME:UTC
DTSTART:20230101T000000
END:STANDARD
END:VTIMEZONE
BEGIN:VEVENT
DTSTART;TZID=UTC:20250403T190000
DTEND;TZID=UTC:20250403T210000
DTSTAMP:20260422T144718
CREATED:20250215T155539Z
LAST-MODIFIED:20250215T160723Z
UID:4565-1743706800-1743714000@connectingtheculm.com
SUMMARY:Connecting the Culm forum #7 - Managing water for nature and people
DESCRIPTION:From a changing climate to growing communities\, the future presents us with many challenges. We’ll explore what this means for the River Culm with a range of speakers and the opportunity for discussion: \nCllr Natasha Bradshaw – Mid Devon District Council\nCabinet Member for Environment and Climate Change. \nJulie Gregory – Network Rail\nHead of Weather Resilience and Sustainable Growth \nLucy Jefferson – Blackdown Hills National Landscape\nSenior Culm Catchment Officer \nFollowed by open forum: speaker Q&A\, discussion\, and networking. \nThis is a free event with complementary refreshments. \nClick here to book your place
URL:https://connectingtheculm.com/event/connecting-the-culm-forum-7/
LOCATION:Cullompton Community Centre\, Pye Corner\, Cullompton\, Devon\, EX15 1JX
CATEGORIES:event,Forum
ATTACH;FMTTYPE=image/jpeg:https://connectingtheculm.com/wp-content/uploads/2025/02/CTC-forum-7-calendar-photo.jpg
END:VEVENT
BEGIN:VEVENT
DTSTART;TZID=UTC:20231019T163000
DTEND;TZID=UTC:20231019T180000
DTSTAMP:20260422T144718
CREATED:20230926T163412Z
LAST-MODIFIED:20231006T153406Z
UID:4058-1697733000-1697738400@connectingtheculm.com
SUMMARY:Water Quality Working Group
DESCRIPTION:We are reconvening the Water Quality Working Group after quite a long gap because the problems around water quality are so persistent and we want to increase the pressure to bring about the changes needed. Our vision for the Culm is that its “waters run clear and wildlife will flourish” but that’s certainly not the case at the moment and massive changes are needed to bring this about. \nLast year we held a workshop to explore the issues which mostly revolve around run-off from farms and domestic sewage getting into the river. Now we want to build on that work\, drill down into the actions needed and see how we can get better water quality for the Culm. \nPlease join us at this online meeting to share information and help make a plan. NB: We’ll be meeting on Microsoft Teams and a link will be shared with all attendees nearer the time. Please register a place on Eventbrite (see link in column on the right) and we’ll send you the Teams invite.
URL:https://connectingtheculm.com/event/water-quality-working-group/
LOCATION:Online
CATEGORIES:event
ATTACH;FMTTYPE=image/jpeg:https://connectingtheculm.com/wp-content/uploads/2023/09/22-9-Holc-Rog-water-spout-small-scaled.jpg
END:VEVENT
END:VCALENDAR